Required Vertical Accuracy: The required NVA is: 19.6 cm (0.64 ft)at a 95% confidence level<\/div>",
"extent": {
"xmin": 444999.9997784622,
"ymin": 949999.9994123094,
"xmax": 634999.9997784621,
"ymax": 1109999.9994123094,
"spatialReference": {
"wkid": 2882,
"latestWkid": 2882
}
},
"initialExtent": {
"xmin": 444999.9997784622,
"ymin": 949999.9994123094,
"xmax": 634999.9997784621,
"ymax": 1109999.9994123094,
"spatialReference": {
"wkid": 2882,
"latestWkid": 2882
}
},
"fullExtent": {
"xmin": 444999.9997784622,
"ymin": 949999.9994123094,
"xmax": 634999.9997784621,
"ymax": 1109999.9994123094,
"spatialReference": {
"wkid": 2882,
"latestWkid": 2882
}
},
"sortableFields": "",
"bandCount": 1,
"pixelType": "F32",
"minValues": [
-10.977962493896484
],
"maxValues": [
115.92576599121094
],
"meanValues": [
21.066581580386252
],
"stdvValues": [
14.407254264854991
],
"serviceProperties": "
Center<\/MosaicMethod>First<\/MosaicOperator>true<\/SortAscending><\/LockImageID><\/TileOrderField>0<\/TileOrderBase>0.000000<\/AvgImageSpacingX>0.000000<\/AvgImageSpacingY>0.0<\/ViewPointX>0.0<\/ViewPointY>0.0<\/ViewPointDefShiftX>0.0<\/ViewPointDefShiftY>LZ77<\/CompressionMethod>75<\/CompressionQuality>0.010000<\/CompressionTolerance>Bilinear<\/SamplingMethod><\/ImageServiceProperties><\/ImageServer>",
"allowedFields": "",
"hasMultidimensions": false,
"pixelSizeX": 2.4999999999999987,
"pixelSizeY": 2.5,
"meanPixelSize": 0.7620015240030479,
"datasetFormat": "FGDBR",
"uncompressedSize": 19456000000,
"blockWidth": 128,
"blockHeight": 128,
"compressionType": "LZ77",
"bandNames": [
"Band_1"
],
"allowCopy": true,
"allowAnalysis": true,
"itemAccess": false,
"inspectionCapabilities": "",
"minPixelSize": 0,
"maxPixelSize": 0,
"copyrightText": "SWFWMD, U.S. Geological Survey",
"serviceDataType": "esriImageServiceDataTypeGeneric",
"serviceSourceType": "esriImageServiceSourceTypeDataset",
"objectIdField": "",
"fields": [],
"capabilities": "Mensuration,Image,Metadata",
"defaultMosaicMethod": "Center",
"allowedMosaicMethods": "",
"sortField": "",
"sortValue": null,
"sortAscending": true,
"mosaicOperator": "First",
"defaultCompressionQuality": 75,
"defaultResamplingMethod": "Bilinear",
"maxImageHeight": 4100,
"maxImageWidth": 15000,
"allowRasterFunction": true,
"rasterFunctionInfos": [
{
"name": "None",
"description": "",
"help": ""
}
],
"rasterTypeInfos": [
{
"name": "Raster Dataset",
"description": "Supports all ArcGIS Raster Datasets",
"help": ""
}
],
"mensurationCapabilities": "Basic",
"hasHistograms": true,
"hasColormap": false,
"hasRasterAttributeTable": false,
"minScale": 0,
"maxScale": 0,
"exportTilesAllowed": false,
"supportsStatistics": false,
"supportsAdvancedQueries": false,
"editFieldsInfo": null,
"ownershipBasedAccessControlForRasters": null,
"allowComputeTiePoints": false,
"useStandardizedQueries": true,
"advancedQueryCapabilities": {
"useStandardizedQueries": true,
"supportsStatistics": false,
"supportsOrderBy": false,
"supportsDistinct": false,
"supportsPagination": false
},
"spatialReference": {
"wkid": 2882,
"latestWkid": 2882
},
"resampling": false
}