2007 Digital Elevation Model<\/a>
<\/p>and on the Overview tab page, click the 'Open in ArcGIS Desktop.
<\/p><\/span><\/div>
Note: To download this dataset as a complete layer package with full access to the raster dataset:<\/u><\/b>
<\/p>
SarasotaCountyDEM<\/a><\/p><\/div>",
"extent": {
"xmin": 425000.00006992,
"ymin": 945000.0001320094,
"xmax": 639900.00006992,
"ymax": 1140000.0001320094,
"spatialReference": {
"wkid": 2882,
"latestWkid": 2882,
"vcsWkid": 105703,
"latestVcsWkid": 6360
}
},
"initialExtent": {
"xmin": 425000.00006992,
"ymin": 945000.0001320094,
"xmax": 639900.00006992,
"ymax": 1140000.0001320094,
"spatialReference": {
"wkid": 2882,
"latestWkid": 2882,
"vcsWkid": 105703,
"latestVcsWkid": 6360
}
},
"fullExtent": {
"xmin": 425000.00006992,
"ymin": 945000.0001320094,
"xmax": 639900.00006992,
"ymax": 1140000.0001320094,
"spatialReference": {
"wkid": 2882,
"latestWkid": 2882,
"vcsWkid": 105703,
"latestVcsWkid": 6360
}
},
"sortableFields": "",
"heightModelInfo": {
"heightModel": "gravity_related_height",
"vertCRS": "NAVD_1988_Foot_US",
"heightUnit": "us-foot"
},
"bandCount": 1,
"pixelType": "F32",
"minValues": [
-18.07990074157715
],
"maxValues": [
118.20624542236328
],
"meanValues": [
19.36050409781715
],
"stdvValues": [
14.154808388886181
],
"serviceProperties": "Center<\/MosaicMethod>First<\/MosaicOperator>true<\/SortAscending><\/LockImageID><\/TileOrderField>0<\/TileOrderBase>0.000000<\/AvgImageSpacingX>0.000000<\/AvgImageSpacingY>0.0<\/ViewPointX>0.0<\/ViewPointY>0.0<\/ViewPointDefShiftX>0.0<\/ViewPointDefShiftY>JPEG<\/CompressionMethod>75<\/CompressionQuality>0.010000<\/CompressionTolerance>Bilinear<\/SamplingMethod><\/ImageServiceProperties><\/ImageServer>",
"allowedFields": "",
"hasMultidimensions": false,
"pixelSizeX": 5,
"pixelSizeY": 5,
"meanPixelSize": 1.5240030480060962,
"datasetFormat": "FGDBR",
"uncompressedSize": 6704880000,
"blockWidth": 128,
"blockHeight": 128,
"compressionType": "NONE",
"bandNames": [
"Band_1"
],
"allowCopy": true,
"allowAnalysis": true,
"itemAccess": false,
"inspectionCapabilities": "",
"minPixelSize": 0,
"maxPixelSize": 0,
"copyrightText": "",
"serviceDataType": "esriImageServiceDataTypeElevation",
"serviceSourceType": "esriImageServiceSourceTypeDataset",
"objectIdField": "",
"fields": [],
"capabilities": "Mensuration,Image,Metadata",
"defaultMosaicMethod": "Center",
"allowedMosaicMethods": "",
"sortField": "",
"sortValue": null,
"sortAscending": true,
"mosaicOperator": "First",
"defaultCompressionQuality": 75,
"defaultResamplingMethod": "Bilinear",
"maxImageHeight": 4100,
"maxImageWidth": 15000,
"allowRasterFunction": true,
"rasterFunctionInfos": [
{
"name": "None",
"description": "",
"help": ""
}
],
"rasterTypeInfos": [
{
"name": "Raster Dataset",
"description": "Supports all ArcGIS Raster Datasets",
"help": ""
}
],
"mensurationCapabilities": "Basic",
"hasHistograms": true,
"hasColormap": false,
"hasRasterAttributeTable": false,
"minScale": 0,
"maxScale": 0,
"exportTilesAllowed": false,
"supportsStatistics": false,
"supportsAdvancedQueries": false,
"editFieldsInfo": null,
"ownershipBasedAccessControlForRasters": null,
"allowComputeTiePoints": false,
"useStandardizedQueries": true,
"advancedQueryCapabilities": {
"useStandardizedQueries": true,
"supportsStatistics": false,
"supportsOrderBy": false,
"supportsDistinct": false,
"supportsPagination": false
},
"spatialReference": {
"wkid": 2882,
"latestWkid": 2882,
"vcsWkid": 105703,
"latestVcsWkid": 6360
},
"resampling": false
}