View In:
  ArcGIS JavaScript
  ArcGIS Online Map Viewer
  ArcGIS Earth
Service Description:  1986 single band imagery, approx 15-inch pixel resolution for Sarasota County Florida. Flight dates and months are not available.
Name:  ImageServices/SC1986
Description:  1986 single band imagery, approx 15-inch pixel resolution for Sarasota County Florida. Flight dates and months are not available.
Single Fused Map Cache:  false
Extent: 
XMin: 442358.42192676663
YMin: 937992.5760508412
XMax: 642524.1703820239
YMax: 1120688.5675793304
Spatial Reference: 2882
 (2882)
 LatestVCSWkid(0)
Initial Extent:
XMin: 442358.42192676663
YMin: 937992.5760508412
XMax: 642524.1703820239
YMax: 1120688.5675793304
Spatial Reference: 2882
 (2882)
 LatestVCSWkid(0)
Full Extent:
XMin: 442358.42192676663
YMin: 937992.5760508412
XMax: 642524.1703820239
YMax: 1120688.5675793304
Spatial Reference: 2882
 (2882)
 LatestVCSWkid(0)
Pixel Size X: 1.0158016587259062
Pixel Size Y:  1.0158016587259064
Band Count: 1
Pixel Type: U8
RasterFunction Infos:  {"rasterFunctionInfos": [{
 "name": "None",
 "description": "",
 "help": ""
}]}
Mensuration Capabilities: None
Inspection Capabilities: 
Has Histograms:  true
Has Colormap:  false
Has Multi Dimensions :  false
Rendering Rule: 
Min Scale:  0
Max Scale:  0
Resampling:  false
Copyright Text:  
Service Data Type:  esriImageServiceDataTypeGeneric
Min Values:  0
Max Values:  253
Mean Values:  67.27349770347477
Standard Deviation Values:  26.936384528963366
Object ID Field:  OBJECTID
Fields: 
- 
OBJECTID
(
type: esriFieldTypeOID, alias: OBJECTID
)
- 
Shape
(
type: esriFieldTypeGeometry, alias: Shape
)
- 
Name
(
type: esriFieldTypeString, alias: Name, length: 200
)
- 
MinPS
(
type: esriFieldTypeDouble, alias: MinPS
)
- 
MaxPS
(
type: esriFieldTypeDouble, alias: MaxPS
)
- 
LowPS
(
type: esriFieldTypeDouble, alias: LowPS
)
- 
HighPS
(
type: esriFieldTypeDouble, alias: HighPS
)
- 
Category
(
type: esriFieldTypeInteger, alias: Category
, Coded Values: 
[0: Unknown]
, [1: Primary]
, [2: Overview]
, ...6 more...
)
- 
Tag
(
type: esriFieldTypeString, alias: Tag, length: 100
)
- 
GroupName
(
type: esriFieldTypeString, alias: GroupName, length: 100
)
- 
ProductName
(
type: esriFieldTypeString, alias: ProductName, length: 100
)
- 
CenterX
(
type: esriFieldTypeDouble, alias: CenterX
)
- 
CenterY
(
type: esriFieldTypeDouble, alias: CenterY
)
- 
ZOrder
(
type: esriFieldTypeInteger, alias: ZOrder
)
- 
Shape_Length
(
type: esriFieldTypeDouble, alias: Shape_Length
)
- 
Shape_Area
(
type: esriFieldTypeDouble, alias: Shape_Area
)
Default Mosaic Method: Northwest
Allowed Mosaic Methods:  NorthWest,Center,LockRaster,ByAttribute,Nadir,Viewpoint,Seamline,None
SortField:  
SortValue:  null
Mosaic Operator:  First
Default Compression Quality:  75
Default Resampling Method:  Bilinear
Max Record Count:  1000
Max Image Height:  4100
Max Image Width:  15000
Max Download Image Count:  20
Max Mosaic Image Count:  60
Allow Raster Function:  true
Allow Copy:  true
Allow Analysis:  true
Allow Compute TiePoints:  false
Supports Statistics:  true
Supports Advanced Queries:  true
Use StandardizedQueries:  true
Raster Type Infos: 
Name: Raster Dataset
Description: Supports all ArcGIS Raster Datasets
Help: 
Has Raster Attribute Table: false
Edit Fields Info:  null
Ownership Based AccessControl For Rasters:  null
Child Resources:
  
Info
  Histograms
  Statistics
  Key Properties
  Legend
  Raster Function Infos
Supported Operations:
  
Export Image
  Query
  Identify
  Compute Histograms
  Compute Statistics Histograms
  Get Samples
  Compute Class Statistics
  Query GPS Info
  Find Images
  Image to Map
  Map to Image
  Measure from Image
  Image to Map Multiray
  Query Boundary
  Compute Pixel Location
  Compute Angles
  Validate
  Project