View In:
  ArcGIS JavaScript
  ArcGIS Online Map Viewer
  ArcGIS Earth
Service Description:  These are Digital Elevation Model (DEM) data for Sarasota county,as part of the required deliverables for the FL Peninsular FDEM 2018 D19 DRRA Lidar project.
Class 2 (ground) lidar points in conjunction with the hydro breaklines were used to create a 2.5 foot hydro-flattened Raster DEM.
Dataset Description: FL Peninsular FDEM 2018 D19 DRRA Lidar project called for the Planning, Acquisition, processing and derivative products of lidar data to be collected at a nominal pulse spacing (NPS) of 0.35 meter. Project specifications are based on the U.S. Geological Survey National Geospatial Program Base Lidar Specification, Version 1.3. The data was developed based on a horizontal projection/datum of NAD83 (2011), State Plane, U.S Survey Feet and vertical datum of NAVD88 (GEOID12B), U.S Survey Feet.
Raster Cell Size: 2.5 foot
Required Vertical Accuracy: The required NVA is: 19.6 cm (0.64 ft)at a 95% confidence level
Name:  ImageServices/SarcoDEM2019
Description:  These are Digital Elevation Model (DEM) data for Sarasota county,as part of the required deliverables for the FL Peninsular FDEM 2018 D19 DRRA Lidar project.
Class 2 (ground) lidar points in conjunction with the hydro breaklines were used to create a 2.5 foot hydro-flattened Raster DEM.
Dataset Description: FL Peninsular FDEM 2018 D19 DRRA Lidar project called for the Planning, Acquisition, processing and derivative products of lidar data to be collected at a nominal pulse spacing (NPS) of 0.35 meter. Project specifications are based on the U.S. Geological Survey National Geospatial Program Base Lidar Specification, Version 1.3. The data was developed based on a horizontal projection/datum of NAD83 (2011), State Plane, U.S Survey Feet and vertical datum of NAVD88 (GEOID12B), U.S Survey Feet.
Raster Cell Size: 2.5 foot
Required Vertical Accuracy: The required NVA is: 19.6 cm (0.64 ft)at a 95% confidence level
Single Fused Map Cache:  false
Extent: 
XMin: 444999.9997784622
YMin: 949999.9994123094
XMax: 634999.9997784621
YMax: 1109999.9994123094
Spatial Reference: 2882
 (2882)
 LatestVCSWkid(0)
Initial Extent:
XMin: 444999.9997784622
YMin: 949999.9994123094
XMax: 634999.9997784621
YMax: 1109999.9994123094
Spatial Reference: 2882
 (2882)
 LatestVCSWkid(0)
Full Extent:
XMin: 444999.9997784622
YMin: 949999.9994123094
XMax: 634999.9997784621
YMax: 1109999.9994123094
Spatial Reference: 2882
 (2882)
 LatestVCSWkid(0)
Pixel Size X: 2.4999999999999987
Pixel Size Y:  2.5
Band Count: 1
Pixel Type: F32
RasterFunction Infos:  {"rasterFunctionInfos": [{
 "name": "None",
 "description": "",
 "help": ""
}]}
Mensuration Capabilities: Basic
Inspection Capabilities: 
Has Histograms:  true
Has Colormap:  false
Has Multi Dimensions :  false
Rendering Rule: 
Min Scale:  0
Max Scale:  0
Resampling:  false
Copyright Text:  SWFWMD, U.S. Geological Survey
Service Data Type:  esriImageServiceDataTypeGeneric
Min Values:  -10.977962493896484
Max Values:  115.92576599121094
Mean Values:  21.066581580386252
Standard Deviation Values:  14.407254264854991
Object ID Field:  
Fields: 
None
Default Mosaic Method:  Center
Allowed Mosaic Methods:  
SortField:  
SortValue:  null
Mosaic Operator:  First
Default Compression Quality:  75
Default Resampling Method:  Bilinear
Max Record Count:  null
Max Image Height:  4100
Max Image Width:  15000
Max Download Image Count:  null
Max Mosaic Image Count:  null
Allow Raster Function:  true
Allow Copy:  true
Allow Analysis:  true
Allow Compute TiePoints:  false
Supports Statistics:  false
Supports Advanced Queries:  false
Use StandardizedQueries:  true
Raster Type Infos: 
Name: Raster Dataset
Description: Supports all ArcGIS Raster Datasets
Help: 
Has Raster Attribute Table: false
Edit Fields Info:  null
Ownership Based AccessControl For Rasters:  null
Child Resources:
  
Info
  Histograms
  Statistics
  Key Properties
  Legend
  Raster Function Infos
Supported Operations:
  
Export Image
  Identify
  Measure
  Compute Histograms
  Compute Statistics Histograms
  Get Samples
  Compute Class Statistics
  Query Boundary
  Compute Pixel Location
  Compute Angles
  Validate
  Project