View In:
  ArcGIS JavaScript
  ArcGIS Online Map Viewer
  ArcGIS Earth
Service Description:  5ft x 5ft Digital Elevation Model for Sarasota County, FL.  The DEM was developed from an ESRI Terrain Dataset comprised of mass points (average 4ft spacing), 2-D and 3-D breakline features, and a softclip boundary footprint.  The mass points and breaklines were compiled in 2007 to support of the the Florida Division of Emergency Management (FDEM) development and maintenance of Regional Evacuation (Storm Surge) Studies.
To account for roadway, housing and commercial development since 2007, updates to the masspoints and breaklines were applied in 2014 - 2016 for the following watersheds: Phillipi Creek, Little Sarasota Bay, Lemon Bay and Dona Roberts Bay. The updated area feature layer is titled DEMUpdateBoundary and can be found by title in the Open Data site or searching on the DEM, Lidar, or Cadastral tags.
Note: To access this dataset for consumption in ArcGIS as a layer file go to:
2007 Digital Elevation Model
and on the Overview tab page, click the 'Open in ArcGIS Desktop.
Note: To download this dataset as a complete layer package with full access to the raster dataset:
SarasotaCountyDEM
 ImageServices/SarcoDem
Description:  5ft x 5ft Digital Elevation Model for Sarasota County, FL.  The DEM was developed from an ESRI Terrain Dataset comprised of mass points (average 4ft spacing), 2-D and 3-D breakline features, and a softclip boundary footprint.  The mass points and breaklines were compiled in 2007 to support of the the Florida Division of Emergency Management (FDEM) development and maintenance of Regional Evacuation (Storm Surge) Studies.
To account for roadway, housing and commercial development since 2007, updates to the masspoints and breaklines were applied in 2014 - 2016 for the following watersheds: Phillipi Creek, Little Sarasota Bay, Lemon Bay and Dona Roberts Bay. The updated area feature layer is titled DEMUpdateBoundary and can be found by title in the Open Data site or searching on the DEM, Lidar, or Cadastral tags.
Note: To access this dataset for consumption in ArcGIS as a layer file go to:
2007 Digital Elevation Model
and on the Overview tab page, click the 'Open in ArcGIS Desktop.
Note: To download this dataset as a complete layer package with full access to the raster dataset:
SarasotaCountyDEM
 false
Extent: 
XMin: 425000.00006992
YMin: 945000.0001320094
XMax: 639900.00006992
YMax: 1140000.0001320094
Spatial Reference: 2882
 (2882)
 VCSWkid(105703)
 LatestVCSWkid(6360)
Initial Extent:
XMin: 425000.00006992
YMin: 945000.0001320094
XMax: 639900.00006992
YMax: 1140000.0001320094
Spatial Reference: 2882
 (2882)
 VCSWkid(105703)
 LatestVCSWkid(6360)
Full Extent:
XMin: 425000.00006992
YMin: 945000.0001320094
XMax: 639900.00006992
YMax: 1140000.0001320094
Spatial Reference: 2882
 (2882)
 VCSWkid(105703)
 LatestVCSWkid(6360)
Pixel Size X: 5.0
Pixel Size Y:  5.0
Band Count: 1
Pixel Type: F32
RasterFunction Infos:  {"rasterFunctionInfos": [{
 "name": "None",
 "description": "",
 "help": ""
}]}
Mensuration Capabilities: Basic
Inspection Capabilities: 
Has Histograms:  true
Has Colormap:  false
Has Multi Dimensions :  false
Rendering Rule: 
Min Scale:  0
Max Scale:  0
Resampling:  false
Copyright Text:  
Service Data Type:  esriImageServiceDataTypeElevation
Min Values:  -18.07990074157715
Max Values:  118.20624542236328
Mean Values:  19.36050409781715
Standard Deviation Values:  14.154808388886181
Object ID Field:  
Fields: 
None
Default Mosaic Method:  Center
Allowed Mosaic Methods:  
SortField:  
SortValue:  null
Mosaic Operator:  First
Default Compression Quality:  75
Default Resampling Method:  Bilinear
Max Record Count:  null
Max Image Height:  4100
Max Image Width:  15000
Max Download Image Count:  null
Max Mosaic Image Count:  null
Allow Raster Function:  true
Allow Copy:  true
Allow Analysis:  true
Allow Compute TiePoints:  false
Supports Statistics:  false
Supports Advanced Queries:  false
Use StandardizedQueries:  true
Raster Type Infos: 
Name: Raster Dataset
Description: Supports all ArcGIS Raster Datasets
Help: 
Has Raster Attribute Table: false
Edit Fields Info:  null
Ownership Based AccessControl For Rasters:  null
Child Resources:
  
Info
  Histograms
  Statistics
  Key Properties
  Legend
  Raster Function Infos
Supported Operations:
  
Export Image
  Identify
  Measure
  Compute Histograms
  Compute Statistics Histograms
  Get Samples
  Compute Class Statistics
  Query Boundary
  Compute Pixel Location
  Compute Angles
  Validate
  Project
  Calculate Volume